BEGIN:VCALENDAR
VERSION:2.0
PRODID:-//Formula Boats - ECPv6.2.3.1//NONSGML v1.0//EN
CALSCALE:GREGORIAN
METHOD:PUBLISH
X-ORIGINAL-URL:https://www.formulaboats.com
X-WR-CALDESC:Events for Formula Boats
REFRESH-INTERVAL;VALUE=DURATION:PT1H
X-Robots-Tag:noindex
X-PUBLISHED-TTL:PT1H
BEGIN:VTIMEZONE
TZID:UTC
BEGIN:STANDARD
TZOFFSETFROM:+0000
TZOFFSETTO:+0000
TZNAME:UTC
DTSTART:20260101T000000
END:STANDARD
END:VTIMEZONE
BEGIN:VEVENT
DTSTART;VALUE=DATE:20260417
DTEND;VALUE=DATE:20260421
DTSTAMP:20260425T144401
CREATED:20250307T160006Z
LAST-MODIFIED:20260413T130310Z
UID:10000084-1776423600-1776682799@www.formulaboats.com
SUMMARY:Suncoast Boat Show
DESCRIPTION:
URL:https://www.formulaboats.com/event/suncoast-boat-show/
LOCATION:Marina Jack\, 2 Marina Plaza\, Sarasota\, FL\, United States
ATTACH;FMTTYPE=image/jpeg:https://www.formulaboats.com/wp-content/uploads/2025/03/suncoast.jpg
END:VEVENT
BEGIN:VEVENT
DTSTART;TZID=UTC:20260516T060000
DTEND;TZID=UTC:20260516T190000
DTSTAMP:20260425T144401
CREATED:20260304T185818Z
LAST-MODIFIED:20260416T140636Z
UID:10004383-1778911200-1778958000@www.formulaboats.com
SUMMARY:King of Spring Rockfish Tournament
DESCRIPTION:Presented by Pleasure Cove Marina \n \n \n 
URL:https://www.formulaboats.com/event/king-of-spring-rockfish-tournament/
LOCATION:Lakeshore Maryland\, 1701 Poplar Ridge Road\, Lakeshore\, MD\, 21122\, United States
ATTACH;FMTTYPE=image/jpeg:https://www.formulaboats.com/wp-content/uploads/2026/03/kingfishfeature.jpg
END:VEVENT
BEGIN:VEVENT
DTSTART;TZID=UTC:20260516T080000
DTEND;TZID=UTC:20260517T200000
DTSTAMP:20260425T144401
CREATED:20260424T182919Z
LAST-MODIFIED:20260424T184400Z
UID:10004386-1778918400-1779048000@www.formulaboats.com
SUMMARY:Lakeside Formula & the 37th Annual Great Lakes Boating Festival
DESCRIPTION:Visit Lakeside Formula at the 37th Annual Great Lakes Boating Festival\, a premier in-water boat show in Michigan held at the Grosse Pointe Yacht Club on May 16 & 17\, 2026. This popular spring boating event on Lake St. Clair is free and open to the public and features boats on display\, marine products and services\, in-water demos\, live music\, food\, and family-friendly entertainment. \nIf you’re searching for boat shows in Michigan or upcoming Lake St Clair boat shows\, this is one of the top boating events in the region to explore premium boats in person. \n\nEvent Hours: Saturday\, Noon–7pm | Sunday\, Noon–5pm\nEvent Location: Grosse Pointe Yacht Club\, 788 Lakeshore Road\, Grosse Pointe Shores\, MI 48236 \nOn-site parking is available at Grosse Pointe Yacht Club for $20\, or guests may use the free shuttle from Grosse Pointe North High School to GPYC. \nFor official event information\, schedules\, and boating event details\, visit the Michigan Boating Industries Association event calendar. You can also visit the official Great Lakes Boating Festival website for event updates and show information. \n\nModels on Display \nFormula 387 CCF \nFormula 380 SSC \nFormula 360 CBR \n(models are subject to change) \n\nWant to see Formula Boats before or after the show?\nCall (586) 772-4100 to schedule a private viewing or visit our showroom in St. Clair Shores. \n← View More Michigan Boat Shows & Events \n\nVisit the official Great Lakes Boating Festival website
URL:https://www.formulaboats.com/event/great-lakes-boating-festival-3/
LOCATION:Great Lakes Boating Festival
END:VEVENT
BEGIN:VEVENT
DTSTART;TZID=UTC:20260627T110000
DTEND;TZID=UTC:20260627T180000
DTSTAMP:20260425T144401
CREATED:20260424T140939Z
LAST-MODIFIED:20260424T142444Z
UID:10004385-1782558000-1782583200@www.formulaboats.com
SUMMARY:2026 Formula Rendezvous on Grand Lake\, Oklahoma
DESCRIPTION:2026 Formula Rendezvous on Grand Lake\, Oklahoma.\nSaturday\, June 27\, 2026 \n• Grand Lake\, OK – Drunken Rooster Bar & Grill / Honey Creek Landing Marina will serve as the meet-up location for sign-in\, food\, and beverages – 11:00 a.m. – 1:00 p.m. \nVisit Drunken Rooster Bar & Grill and Honey Creek Landing Marina for more information.  \n• Depart to Woodard Hollow.  Floating stage with a live band from 3:00 PM to 6:00 PM.\nFor more information\, please call 918-809-0414
URL:https://www.formulaboats.com/event/grand_lake_oklahoma/
LOCATION:Iguana Marine Group\, 100 Anchor Road\, Grove\, OK\, 74344\, United States
ATTACH;FMTTYPE=image/jpeg:https://www.formulaboats.com/wp-content/uploads/2026/04/iguanafeature.jpg
END:VEVENT
BEGIN:VEVENT
DTSTART;TZID=UTC:20260712T080000
DTEND;TZID=UTC:20260712T200000
DTSTAMP:20260425T144401
CREATED:20260311T155242Z
LAST-MODIFIED:20260311T203540Z
UID:10004384-1783843200-1783886400@www.formulaboats.com
SUMMARY:Dry Harbour Marine - Oyster Bay Raft-Off
DESCRIPTION:
URL:https://www.formulaboats.com/event/dry-harbour-marine-oyster-bay-raft-off/
LOCATION:Dry Harbour Marine\, 6357 U.. 31\, Charlevoix\, MI\, 49720\, United States
ATTACH;FMTTYPE=image/jpeg:https://www.formulaboats.com/wp-content/uploads/2026/03/dryharbour2-1.jpg
END:VEVENT
END:VCALENDAR