BEGIN:VCALENDAR
VERSION:2.0
PRODID:-//Formula Boats - ECPv6.2.3.1//NONSGML v1.0//EN
CALSCALE:GREGORIAN
METHOD:PUBLISH
X-WR-CALNAME:Formula Boats
X-ORIGINAL-URL:https://www.formulaboats.com
X-WR-CALDESC:Events for Formula Boats
REFRESH-INTERVAL;VALUE=DURATION:PT1H
X-Robots-Tag:noindex
X-PUBLISHED-TTL:PT1H
BEGIN:VTIMEZONE
TZID:UTC
BEGIN:STANDARD
TZOFFSETFROM:+0000
TZOFFSETTO:+0000
TZNAME:UTC
DTSTART:20260101T000000
END:STANDARD
END:VTIMEZONE
BEGIN:VEVENT
DTSTART;TZID=UTC:20260128T000000
DTEND;TZID=UTC:20260201T000000
DTSTAMP:20260421T135204
CREATED:20231119T133005Z
LAST-MODIFIED:20260201T050006Z
UID:10004252-1769558400-1769904000@www.formulaboats.com
SUMMARY:Chicago Boat Show
DESCRIPTION:
URL:https://www.formulaboats.com/event/chicago-boat-show/
LOCATION:Donald E. Stephens Convention & Conference Center\, 5555 N River Rd\, Rosemont\, IL\, United States
ATTACH;FMTTYPE=image/jpeg:https://www.formulaboats.com/wp-content/uploads/2023/11/chicago.jpg
END:VEVENT
END:VCALENDAR